
BEGIN:VCALENDAR
VERSION:2.0
PRODID:-//Sfeco-Asso - ECPv6.15.20//NONSGML v1.0//EN
CALSCALE:GREGORIAN
METHOD:PUBLISH
X-WR-CALNAME:Sfeco-Asso
X-ORIGINAL-URL:https://sfeco-asso.org
X-WR-CALDESC:Évènements pour Sfeco-Asso
REFRESH-INTERVAL;VALUE=DURATION:PT1H
X-Robots-Tag:noindex
X-PUBLISHED-TTL:PT1H
BEGIN:VTIMEZONE
TZID:Europe/Paris
BEGIN:DAYLIGHT
TZOFFSETFROM:+0100
TZOFFSETTO:+0200
TZNAME:CEST
DTSTART:20190331T010000
END:DAYLIGHT
BEGIN:STANDARD
TZOFFSETFROM:+0200
TZOFFSETTO:+0100
TZNAME:CET
DTSTART:20191027T010000
END:STANDARD
BEGIN:DAYLIGHT
TZOFFSETFROM:+0100
TZOFFSETTO:+0200
TZNAME:CEST
DTSTART:20200329T010000
END:DAYLIGHT
BEGIN:STANDARD
TZOFFSETFROM:+0200
TZOFFSETTO:+0100
TZNAME:CET
DTSTART:20201025T010000
END:STANDARD
BEGIN:DAYLIGHT
TZOFFSETFROM:+0100
TZOFFSETTO:+0200
TZNAME:CEST
DTSTART:20210328T010000
END:DAYLIGHT
BEGIN:STANDARD
TZOFFSETFROM:+0200
TZOFFSETTO:+0100
TZNAME:CET
DTSTART:20211031T010000
END:STANDARD
END:VTIMEZONE
BEGIN:VEVENT
DTSTART;VALUE=DATE:20200806
DTEND;VALUE=DATE:20201019
DTSTAMP:20260420T082544
CREATED:20200821T200341Z
LAST-MODIFIED:20200821T200414Z
UID:3374-1596672000-1603065599@sfeco-asso.org
SUMMARY:Blanc de Chine\, a Continuous Conversation Retelling the story of porcelain-making in Dehua
DESCRIPTION:This free display aims to build the bridge between the past and the current\, tradition and innovation of Chinese and non-Chinese ceramic practices. Marvel at historic pieces from our ceramics collections and discover the influence and history of porcelain production at Dehua. See alongside\, a selection of new works by contemporary makers including: Babs Haenen\, Lucille Lewin\, Liang Wanying\, Jeffry Mitchell\, Su Xianzhong\, and Peter Ting.
URL:https://sfeco-asso.org/event/blanc-de-chine-a-continuous-conversation-retelling-the-story-of-porcelain-making-in-dehua/
LOCATION:Victoria and Albert Museum\, Cromwell Road\, London\, SW7 2RL\, Royaume-Uni
CATEGORIES:Etranger,Exposition
END:VEVENT
END:VCALENDAR