
BEGIN:VCALENDAR
VERSION:2.0
PRODID:-//Sfeco-Asso - ECPv6.15.20//NONSGML v1.0//EN
CALSCALE:GREGORIAN
METHOD:PUBLISH
X-WR-CALNAME:Sfeco-Asso
X-ORIGINAL-URL:https://sfeco-asso.org
X-WR-CALDESC:Évènements pour Sfeco-Asso
REFRESH-INTERVAL;VALUE=DURATION:PT1H
X-Robots-Tag:noindex
X-PUBLISHED-TTL:PT1H
BEGIN:VTIMEZONE
TZID:Europe/Paris
BEGIN:DAYLIGHT
TZOFFSETFROM:+0100
TZOFFSETTO:+0200
TZNAME:CEST
DTSTART:20180325T010000
END:DAYLIGHT
BEGIN:STANDARD
TZOFFSETFROM:+0200
TZOFFSETTO:+0100
TZNAME:CET
DTSTART:20181028T010000
END:STANDARD
BEGIN:DAYLIGHT
TZOFFSETFROM:+0100
TZOFFSETTO:+0200
TZNAME:CEST
DTSTART:20190331T010000
END:DAYLIGHT
BEGIN:STANDARD
TZOFFSETFROM:+0200
TZOFFSETTO:+0100
TZNAME:CET
DTSTART:20191027T010000
END:STANDARD
BEGIN:DAYLIGHT
TZOFFSETFROM:+0100
TZOFFSETTO:+0200
TZNAME:CEST
DTSTART:20200329T010000
END:DAYLIGHT
BEGIN:STANDARD
TZOFFSETFROM:+0200
TZOFFSETTO:+0100
TZNAME:CET
DTSTART:20201025T010000
END:STANDARD
END:VTIMEZONE
BEGIN:VEVENT
DTSTART;VALUE=DATE:20190619
DTEND;VALUE=DATE:20191008
DTSTAMP:20260424T160756
CREATED:20190804T175743Z
LAST-MODIFIED:20190911T160204Z
UID:1588-1560902400-1570492799@sfeco-asso.org
SUMMARY:Bouddha\, la légende dorée.
DESCRIPTION:Bouddha\, la légende dorée. \ndu 19 juin au 07 octobre 2019Musée Guimet\,Paris \nhttp://www.guimet.fr/event/18271/ \nPour la première fois en France une exposition événement est consacrée à la vie du Bouddha et à la diffusion du bouddhisme en Asie. L’exposition met en exergue la richesse des traditions iconographiques et stylistiques se rapportant à la représentation de la vie exemplaire et édifiante du fondateur du bouddhisme.En s’appuyant sur les chefs-d’oeuvre du musée\, les grandes étapes de la vie du Bouddha sont retracées\, depuis sa naissance survenue dans le parc de Lumbini au sud du Népal jusqu’à sa totale extinction à Kushinagara dans l’État indien de l’Uttar Pradesh. Il s’agit de mettre en regard les représentations du Bienheureux lui-même dans les multiples transcriptions iconographiques et esthétiques déclinées dans les divers pays d’Asie\, de l’Afghanistan au Japon et de la Chine à l’Indonésie\, où peintures\, statuaires et plus marginalement architecture\, sont mises à l’honneur. Narrant le destin d’un homme aux qualités intellectuelles et morales exceptionnelles\, la vie du Bouddha se déroule telle une geste de l’esprit\, tour à tour concrète et banale\, miraculeuse et transcendante. \n\n\n\n\nQuatrième religion au monde en nombre de fidèles\, derrière le christianisme\, l’islam et l’hindouisme\, le bouddhisme représente le véritable fil conducteur du parcours muséographique qui se découpe en dix séquences\, depuis les scènes des vies antérieures jusqu’à l’esthétisme de l’image du Bouddha en Asie\, en passant par le premier sermon et la communauté monastique (dont les arhat). Ainsi sont rappelées les circonstances de l’apparition du bouddhisme en Inde\, aux environs du 5esiècle avant J.-C.\, puis l’évocation de la « Bonne Loi » et les principales évolutions doctrinales qui ont marqué son développement : bouddhisme ancien (theravada)\, bouddhisme du grand véhicule (mahayana) et bouddhisme du véhicule de diamant (vajrayana). \nCette exposition\, qui présente 159 oeuvres au total\, fruit de quatre années de de préparation\, nous offre les clefs nous offre les clefs de compréhension essentielles associées à la légende du Bouddha.
URL:https://sfeco-asso.org/event/bouddha-la-legende-doree-2/
LOCATION:Musée national des arts asiatiques – Guimet\, 6\, place d'Iéna\, Paris\, 75116\, France
CATEGORIES:Exposition
END:VEVENT
END:VCALENDAR