
BEGIN:VCALENDAR
VERSION:2.0
PRODID:-//Sfeco-Asso - ECPv6.15.20//NONSGML v1.0//EN
CALSCALE:GREGORIAN
METHOD:PUBLISH
X-WR-CALNAME:Sfeco-Asso
X-ORIGINAL-URL:https://sfeco-asso.org
X-WR-CALDESC:Évènements pour Sfeco-Asso
REFRESH-INTERVAL;VALUE=DURATION:PT1H
X-Robots-Tag:noindex
X-PUBLISHED-TTL:PT1H
BEGIN:VTIMEZONE
TZID:Europe/Paris
BEGIN:DAYLIGHT
TZOFFSETFROM:+0100
TZOFFSETTO:+0200
TZNAME:CEST
DTSTART:20180325T010000
END:DAYLIGHT
BEGIN:STANDARD
TZOFFSETFROM:+0200
TZOFFSETTO:+0100
TZNAME:CET
DTSTART:20181028T010000
END:STANDARD
BEGIN:DAYLIGHT
TZOFFSETFROM:+0100
TZOFFSETTO:+0200
TZNAME:CEST
DTSTART:20190331T010000
END:DAYLIGHT
BEGIN:STANDARD
TZOFFSETFROM:+0200
TZOFFSETTO:+0100
TZNAME:CET
DTSTART:20191027T010000
END:STANDARD
BEGIN:DAYLIGHT
TZOFFSETFROM:+0100
TZOFFSETTO:+0200
TZNAME:CEST
DTSTART:20200329T010000
END:DAYLIGHT
BEGIN:STANDARD
TZOFFSETFROM:+0200
TZOFFSETTO:+0100
TZNAME:CET
DTSTART:20201025T010000
END:STANDARD
BEGIN:DAYLIGHT
TZOFFSETFROM:+0100
TZOFFSETTO:+0200
TZNAME:CEST
DTSTART:20210328T010000
END:DAYLIGHT
BEGIN:STANDARD
TZOFFSETFROM:+0200
TZOFFSETTO:+0100
TZNAME:CET
DTSTART:20211031T010000
END:STANDARD
END:VTIMEZONE
BEGIN:VEVENT
DTSTART;VALUE=DATE:20190621
DTEND;VALUE=DATE:20200329
DTSTAMP:20260424T161305
CREATED:20190512T092705Z
LAST-MODIFIED:20190512T093028Z
UID:1450-1561075200-1585439999@sfeco-asso.org
SUMMARY:Céramiques gourmandes
DESCRIPTION:Céramiques gourmandes \ndu 21 juin 2019 au 28 mars 2020Fondation BernardaudLimoges \nhttps://www.bernardaud.com/fr/la-maison-bernardaud/la-fondation-d-entreprise-bernardaud \nQuand l’art devient gourmet\, gourmand et complètement baba des plaisirs de la bouche\, qu’il invente des mets\, des desserts\, des pièces montées ou des scènes de banquets\, qu’il nous met le nez dans nos assiettes\, qu’il interroge notre rapport à la nourriture (coupable\, sensuel\, problématique)\, ça donne « Céramiques Gourmandes »\, avec des artistes qui sont la crème de la crème dans le domaine de la céramique. \nCette exposition réunira 14 artistes internationaux : Chris Antemann (USA)\, Bachelot Caron (France)\, Anna Barlow (Grande- Bretagne)\, Charlotte Coquen (France)\, Christina Erives (Mexique)\, Jae Yong Kim (Corée)\, Juujuu Kim (Corée)\, Yuko \n\n\n\n\nKuramatsu (Japon)\, Kaori Kurihara (Japon)\, Shayna Leib (USA)\, Susan Nemeth (Grande-Bretagne)\, Marie Rancillac (France)\, Dong Won Shin (Corée) et Jessica Stoller (USA). \n  \n\n\nShayna Leib Gâteau aux mures © Eric Tadsen
URL:https://sfeco-asso.org/event/ceramiques-gourmandes/
LOCATION:Fondation Bernardaud\, Limoges
CATEGORIES:Activités,Exposition
END:VEVENT
END:VCALENDAR