
BEGIN:VCALENDAR
VERSION:2.0
PRODID:-//Sfeco-Asso - ECPv6.15.20//NONSGML v1.0//EN
CALSCALE:GREGORIAN
METHOD:PUBLISH
X-WR-CALNAME:Sfeco-Asso
X-ORIGINAL-URL:https://sfeco-asso.org
X-WR-CALDESC:Évènements pour Sfeco-Asso
REFRESH-INTERVAL;VALUE=DURATION:PT1H
X-Robots-Tag:noindex
X-PUBLISHED-TTL:PT1H
BEGIN:VTIMEZONE
TZID:Europe/Paris
BEGIN:DAYLIGHT
TZOFFSETFROM:+0100
TZOFFSETTO:+0200
TZNAME:CEST
DTSTART:20190331T010000
END:DAYLIGHT
BEGIN:STANDARD
TZOFFSETFROM:+0200
TZOFFSETTO:+0100
TZNAME:CET
DTSTART:20191027T010000
END:STANDARD
BEGIN:DAYLIGHT
TZOFFSETFROM:+0100
TZOFFSETTO:+0200
TZNAME:CEST
DTSTART:20200329T010000
END:DAYLIGHT
BEGIN:STANDARD
TZOFFSETFROM:+0200
TZOFFSETTO:+0100
TZNAME:CET
DTSTART:20201025T010000
END:STANDARD
BEGIN:DAYLIGHT
TZOFFSETFROM:+0100
TZOFFSETTO:+0200
TZNAME:CEST
DTSTART:20210328T010000
END:DAYLIGHT
BEGIN:STANDARD
TZOFFSETFROM:+0200
TZOFFSETTO:+0100
TZNAME:CET
DTSTART:20211031T010000
END:STANDARD
BEGIN:DAYLIGHT
TZOFFSETFROM:+0100
TZOFFSETTO:+0200
TZNAME:CEST
DTSTART:20220327T010000
END:DAYLIGHT
BEGIN:STANDARD
TZOFFSETFROM:+0200
TZOFFSETTO:+0100
TZNAME:CET
DTSTART:20221030T010000
END:STANDARD
END:VTIMEZONE
BEGIN:VEVENT
DTSTART;VALUE=DATE:20201129
DTEND;VALUE=DATE:20210104
DTSTAMP:20260420T055350
CREATED:20201129T181603Z
LAST-MODIFIED:20201129T181952Z
UID:4179-1606608000-1609718399@sfeco-asso.org
SUMMARY:Children to Immortals
DESCRIPTION:Children to Immortals: Figural Representations in Chinese Art.\nMetropolitan Museum of Art\, New-York. \nConveying a person’s inner spirit (chuanshen) is the central aspect of figural representation in Chinese art. Rather than prioritizing accurate anatomical renderings\, artists sought to capture the « life energy » of their subjects. This exhibition explores sophisticated decorative arts that depict figures dating to late imperial China\, from the Song (960–1279) to the Qing (1644–1911) dynasty. Over this thousand-year period\, images of humans\, legendary figures\, and immortals frequently appeared. The first gallery focuses on children\, a ubiquitous and long-standing motif expressing the cultural importance of offspring. The second gallery dis- plays scenes from idealized daily life\, historical novels\, and legends. Various religious figures from Bud- dhism and Daoism are presented in the third gallery. \n[su_table responsive= »yes » alternate= »no » fixed= »yes »]\n\n\n\n\n\n\n\n\n\n\n\n\n[/su_table]
URL:https://sfeco-asso.org/event/children-to-immortals/
LOCATION:The Metropolitan Museum of Art\, 1000 Fifth Avenue New York\, NY 10028 Phone:\, New York\, NY 10028\, United States
CATEGORIES:Chine,Etranger,Exposition
ATTACH;FMTTYPE=image/png:https://sfeco-asso.org/wp-content/uploads/2020/11/TheMET_2020_Children_to_Immortals-0.png
END:VEVENT
END:VCALENDAR