
BEGIN:VCALENDAR
VERSION:2.0
PRODID:-//Sfeco-Asso - ECPv6.15.20//NONSGML v1.0//EN
CALSCALE:GREGORIAN
METHOD:PUBLISH
X-WR-CALNAME:Sfeco-Asso
X-ORIGINAL-URL:https://sfeco-asso.org
X-WR-CALDESC:Évènements pour Sfeco-Asso
REFRESH-INTERVAL;VALUE=DURATION:PT1H
X-Robots-Tag:noindex
X-PUBLISHED-TTL:PT1H
BEGIN:VTIMEZONE
TZID:Europe/Paris
BEGIN:DAYLIGHT
TZOFFSETFROM:+0100
TZOFFSETTO:+0200
TZNAME:CEST
DTSTART:20190331T010000
END:DAYLIGHT
BEGIN:STANDARD
TZOFFSETFROM:+0200
TZOFFSETTO:+0100
TZNAME:CET
DTSTART:20191027T010000
END:STANDARD
BEGIN:DAYLIGHT
TZOFFSETFROM:+0100
TZOFFSETTO:+0200
TZNAME:CEST
DTSTART:20200329T010000
END:DAYLIGHT
BEGIN:STANDARD
TZOFFSETFROM:+0200
TZOFFSETTO:+0100
TZNAME:CET
DTSTART:20201025T010000
END:STANDARD
BEGIN:DAYLIGHT
TZOFFSETFROM:+0100
TZOFFSETTO:+0200
TZNAME:CEST
DTSTART:20210328T010000
END:DAYLIGHT
BEGIN:STANDARD
TZOFFSETFROM:+0200
TZOFFSETTO:+0100
TZNAME:CET
DTSTART:20211031T010000
END:STANDARD
BEGIN:DAYLIGHT
TZOFFSETFROM:+0100
TZOFFSETTO:+0200
TZNAME:CEST
DTSTART:20220327T010000
END:DAYLIGHT
BEGIN:STANDARD
TZOFFSETFROM:+0200
TZOFFSETTO:+0100
TZNAME:CET
DTSTART:20221030T010000
END:STANDARD
BEGIN:DAYLIGHT
TZOFFSETFROM:+0100
TZOFFSETTO:+0200
TZNAME:CEST
DTSTART:20230326T010000
END:DAYLIGHT
BEGIN:STANDARD
TZOFFSETFROM:+0200
TZOFFSETTO:+0100
TZNAME:CET
DTSTART:20231029T010000
END:STANDARD
END:VTIMEZONE
BEGIN:VEVENT
DTSTART;VALUE=DATE:20201211
DTEND;VALUE=DATE:20220110
DTSTAMP:20260420T055348
CREATED:20201223T222236Z
LAST-MODIFIED:20210307T185723Z
UID:4267-1607644800-1641772799@sfeco-asso.org
SUMMARY:Chrysanthèmes\, dragons et samouraïs
DESCRIPTION:Avec près de 800 pièces\, datant du milieu du 17e au début du 20e siècle\, le Musée Ariana conserve l’une des plus importantes collections suisses de céramique japonaise. Le corpus se distingue par l’omniprésence et la foisonnante diversité des décors peints. \n\n\n\n\n\n\n\n\n\n\nPrésenté pour la première fois dans son intégralité\, cet ensemble remarquable permet de suivre l’évolution passionnante des techniques et des styles (bleu et blanc\, Imari\, Kakiemon\, Nabeshima\, Satsuma ou Kutani) au pays du Soleil-Levant. Les principaux centres de production représentés offrent un vaste panorama de la céramique japonaise. \nEntre influence étrangère et tradition\, ces objets d’usage quotidien ou d’apparat\, figurines et œuvres monumentales sont conçus en majorité pour le marché étranger. Depuis leur importation en Europe au 17esiècle jusqu’aux Expositions universelles du 19esiècle\, ils n’ont cessé de fasciner les Occidentaux. \nCette collection publique genevoise n’avait pas encore fait l’objet d’une étude spécifique. Chrysanthèmes\, dragons et samouraïs – La céramique japonaise du Musée Ariana\, quatrième volet du cycle « L’Ariana sort de ses réserves »\, se propose de combler cette lacune. Ce projet a été l’occasion de mener une importante campagne de restauration et de mettre en lumière des acquisitions récentes issues de généreuses donations. \nLe catalogue de l’exposition\, réalisé avec le concours d’experts renommés d’Europe et du Japon\, revêt la double mission d’ouvrage de référence scientifique et de livre d’art. \n\nMusée Ariana\n\n\n11 décembre 2020 5 septembre 2021
URL:https://sfeco-asso.org/event/chrysanthemes-dragons-et-samourais/
LOCATION:Musée Ariana\, Avenue de la Paix 10\, Genève\, 1202\, Suisse
CATEGORIES:Etranger,Exposition,Japon
ATTACH;FMTTYPE=image/jpeg:https://sfeco-asso.org/wp-content/uploads/2020/12/2021-Ariana-JAPON-380x280-1.jpg
ORGANIZER;CN="Mus%C3%A9e Ariana":MAILTO:ariana@ville-ge.ch
END:VEVENT
END:VCALENDAR