
BEGIN:VCALENDAR
VERSION:2.0
PRODID:-//Sfeco-Asso - ECPv6.15.20//NONSGML v1.0//EN
CALSCALE:GREGORIAN
METHOD:PUBLISH
X-WR-CALNAME:Sfeco-Asso
X-ORIGINAL-URL:https://sfeco-asso.org
X-WR-CALDESC:Évènements pour Sfeco-Asso
REFRESH-INTERVAL;VALUE=DURATION:PT1H
X-Robots-Tag:noindex
X-PUBLISHED-TTL:PT1H
BEGIN:VTIMEZONE
TZID:Europe/Paris
BEGIN:DAYLIGHT
TZOFFSETFROM:+0100
TZOFFSETTO:+0200
TZNAME:CEST
DTSTART:20200329T010000
END:DAYLIGHT
BEGIN:STANDARD
TZOFFSETFROM:+0200
TZOFFSETTO:+0100
TZNAME:CET
DTSTART:20201025T010000
END:STANDARD
BEGIN:DAYLIGHT
TZOFFSETFROM:+0100
TZOFFSETTO:+0200
TZNAME:CEST
DTSTART:20210328T010000
END:DAYLIGHT
BEGIN:STANDARD
TZOFFSETFROM:+0200
TZOFFSETTO:+0100
TZNAME:CET
DTSTART:20211031T010000
END:STANDARD
BEGIN:DAYLIGHT
TZOFFSETFROM:+0100
TZOFFSETTO:+0200
TZNAME:CEST
DTSTART:20220327T010000
END:DAYLIGHT
BEGIN:STANDARD
TZOFFSETFROM:+0200
TZOFFSETTO:+0100
TZNAME:CET
DTSTART:20221030T010000
END:STANDARD
END:VTIMEZONE
BEGIN:VEVENT
DTSTART;TZID=Europe/Paris:20210605T153000
DTEND;TZID=Europe/Paris:20210605T163000
DTSTAMP:20260420T055239
CREATED:20210602T185034Z
LAST-MODIFIED:20210602T185034Z
UID:5636-1622907000-1622910600@sfeco-asso.org
SUMMARY:Conférence Béatrice Quette
DESCRIPTION:Dans le cadre du Festival de l’Histoire de l’Art au château de Fontainebleau\, Conférence\nSamedi 05 juin à 15h30\nBéatrice Quette\, Conservatrice des collection asiatique du MAD\, ancienne présidente e la SFECO\n« Le plaisir de la découverte : collectionner et exposer l’art japonais en France avant la création des musées d’arts asiatique »\nChâteau de Fontainebleau\, Chapiteau de la Cour Ovale\nen accès libre dans la limite des places disponibles ; \n\nAu milieu du XIXe siècle\, l’arrivée en France d’objets en provenance du Japon provoque un réel engouement pour ces « bibelots »\, ces « japoneries » ou « japonaiseries » pour lesquels collectionneurs et artistes se passionnent. Expositions universelles\, expositions organisées par des institutions\, des collectionneurs et des marchands\, récits de voyageurs-collectionneurs et publications font évoluer la compréhension de l’art japonais\, du japonisme aux prémices de l’histoire de l’art.\nFrançois Marie Louis Alexandre Gobinet de Villecholles dit Franck\, Etagère et objet japonais. [Collection] Amiral Jaurès dans Album « Musée oriental\, 1869 »\, vol. 1\, p. 32\, 1869\, tirage sur papier albuminé\, Paris\, musée des Arts décoratifs\, © Jean Tholance \nVoir moins
URL:https://sfeco-asso.org/event/conference-beatrice-quette/
CATEGORIES:Conférence,Japon,Province
ATTACH;FMTTYPE=image/jpeg:https://sfeco-asso.org/wp-content/uploads/2021/06/2021_.festivaldelhistoiredelart.jpg
END:VEVENT
END:VCALENDAR