
BEGIN:VCALENDAR
VERSION:2.0
PRODID:-//Sfeco-Asso - ECPv6.15.20//NONSGML v1.0//EN
CALSCALE:GREGORIAN
METHOD:PUBLISH
X-WR-CALNAME:Sfeco-Asso
X-ORIGINAL-URL:https://sfeco-asso.org
X-WR-CALDESC:Évènements pour Sfeco-Asso
REFRESH-INTERVAL;VALUE=DURATION:PT1H
X-Robots-Tag:noindex
X-PUBLISHED-TTL:PT1H
BEGIN:VTIMEZONE
TZID:Europe/Paris
BEGIN:DAYLIGHT
TZOFFSETFROM:+0100
TZOFFSETTO:+0200
TZNAME:CEST
DTSTART:20180325T010000
END:DAYLIGHT
BEGIN:STANDARD
TZOFFSETFROM:+0200
TZOFFSETTO:+0100
TZNAME:CET
DTSTART:20181028T010000
END:STANDARD
BEGIN:DAYLIGHT
TZOFFSETFROM:+0100
TZOFFSETTO:+0200
TZNAME:CEST
DTSTART:20190331T010000
END:DAYLIGHT
BEGIN:STANDARD
TZOFFSETFROM:+0200
TZOFFSETTO:+0100
TZNAME:CET
DTSTART:20191027T010000
END:STANDARD
BEGIN:DAYLIGHT
TZOFFSETFROM:+0100
TZOFFSETTO:+0200
TZNAME:CEST
DTSTART:20200329T010000
END:DAYLIGHT
BEGIN:STANDARD
TZOFFSETFROM:+0200
TZOFFSETTO:+0100
TZNAME:CET
DTSTART:20201025T010000
END:STANDARD
END:VTIMEZONE
BEGIN:VEVENT
DTSTART;VALUE=DATE:20190601
DTEND;VALUE=DATE:20191007
DTSTAMP:20260424T144603
CREATED:20190805T161516Z
LAST-MODIFIED:20190805T161516Z
UID:1627-1559347200-1570406399@sfeco-asso.org
SUMMARY:Miquel Barcelo.
DESCRIPTION:Miquel Barcelo. \njusqu’au 06 octobre 2019International Museum of Ceramic\,Faenzahttp://www.micfaenza.org/en/mostre/396-miquel-barcelo.php \n\nThe exhibition is devoted to one of the greatest protagonists of the international contemporary art.Miquel Barceló\, versatile artist able to join different art languages\, is mainly well known to the public for his gestural pictorial research. During the 1990s\, he started to approach ceramics showing a primitive poetic\, emotionally powerful. His career is not characterized only by ceramic sculpture; actually\, the artist finds in the great architectural spaces his uniqueness. Here he creates great wall installations and carries on performative events\, where the clay becomes a key element for a poetical\, original vision.The event in Faenza is the first anthological exhibition devoted to the artist’ ceramic production\, from his debut to nowadays\, in a constant dialogue with the MIC masterpieces.
URL:https://sfeco-asso.org/event/miquel-barcelo/
LOCATION:International Museum of Ceramic\, Viale Baccarini 19 – 48018\, Faenza RA\, Italy
CATEGORIES:Etranger,Exposition
END:VEVENT
END:VCALENDAR