
BEGIN:VCALENDAR
VERSION:2.0
PRODID:-//Sfeco-Asso - ECPv6.15.20//NONSGML v1.0//EN
CALSCALE:GREGORIAN
METHOD:PUBLISH
X-WR-CALNAME:Sfeco-Asso
X-ORIGINAL-URL:https://sfeco-asso.org
X-WR-CALDESC:Évènements pour Sfeco-Asso
REFRESH-INTERVAL;VALUE=DURATION:PT1H
X-Robots-Tag:noindex
X-PUBLISHED-TTL:PT1H
BEGIN:VTIMEZONE
TZID:Europe/Paris
BEGIN:DAYLIGHT
TZOFFSETFROM:+0100
TZOFFSETTO:+0200
TZNAME:CEST
DTSTART:20180325T010000
END:DAYLIGHT
BEGIN:STANDARD
TZOFFSETFROM:+0200
TZOFFSETTO:+0100
TZNAME:CET
DTSTART:20181028T010000
END:STANDARD
BEGIN:DAYLIGHT
TZOFFSETFROM:+0100
TZOFFSETTO:+0200
TZNAME:CEST
DTSTART:20190331T010000
END:DAYLIGHT
BEGIN:STANDARD
TZOFFSETFROM:+0200
TZOFFSETTO:+0100
TZNAME:CET
DTSTART:20191027T010000
END:STANDARD
BEGIN:DAYLIGHT
TZOFFSETFROM:+0100
TZOFFSETTO:+0200
TZNAME:CEST
DTSTART:20200329T010000
END:DAYLIGHT
BEGIN:STANDARD
TZOFFSETFROM:+0200
TZOFFSETTO:+0100
TZNAME:CET
DTSTART:20201025T010000
END:STANDARD
END:VTIMEZONE
BEGIN:VEVENT
DTSTART;VALUE=DATE:20190523
DTEND;VALUE=DATE:20190527
DTSTAMP:20260424T174542
CREATED:20190512T085827Z
LAST-MODIFIED:20190512T085827Z
UID:1436-1558569600-1558915199@sfeco-asso.org
SUMMARY:Révélations – Biennale Internationale Métiers d’Art & Créations
DESCRIPTION:Révélations – Biennale Internationale Métiers d’Art & Créations \ndu 23 au 26 mai 2019Grand Palais\, Paris \nhttps://www.revelations-grandpalais.com/fr/ \nPositionnant le créateur comme central\, Révélations porte un regard nouveau et crée un environnement où la création contemporaine mondiale rencontre son marché et se révèle au grand public. Lieu de dialogues\, d’échanges et de découvertes\, une programmation culturelle particulièrement riche dévoile toute la singularité et l’audace des métiers d’art contemporain. La 4ème édition se déroulera du 23 au 26 mai 2019 au Grand Palais afin de promouvoir une fois encore des valeurs exceptionnelles d’universalité et de diversité\, propices au rayonnement culturel des métiers de la création. \n33 pays (dont le Luxembourg\, pays d’honneur) seront représentés par 450 créateurs\, artistes de la matière\, manufactures\, galeries\, maisons d’excellence\, fondations et institutions qui dévoileront toute l’audace et la vitalité des métiers d’art contemporains.
URL:https://sfeco-asso.org/event/revelations-biennale-internationale-metiers-dart-creations/
END:VEVENT
END:VCALENDAR