
BEGIN:VCALENDAR
VERSION:2.0
PRODID:-//Sfeco-Asso - ECPv6.15.20//NONSGML v1.0//EN
CALSCALE:GREGORIAN
METHOD:PUBLISH
X-WR-CALNAME:Sfeco-Asso
X-ORIGINAL-URL:https://sfeco-asso.org
X-WR-CALDESC:Évènements pour Sfeco-Asso
REFRESH-INTERVAL;VALUE=DURATION:PT1H
X-Robots-Tag:noindex
X-PUBLISHED-TTL:PT1H
BEGIN:VTIMEZONE
TZID:Europe/Paris
BEGIN:DAYLIGHT
TZOFFSETFROM:+0100
TZOFFSETTO:+0200
TZNAME:CEST
DTSTART:20180325T010000
END:DAYLIGHT
BEGIN:STANDARD
TZOFFSETFROM:+0200
TZOFFSETTO:+0100
TZNAME:CET
DTSTART:20181028T010000
END:STANDARD
BEGIN:DAYLIGHT
TZOFFSETFROM:+0100
TZOFFSETTO:+0200
TZNAME:CEST
DTSTART:20190331T010000
END:DAYLIGHT
BEGIN:STANDARD
TZOFFSETFROM:+0200
TZOFFSETTO:+0100
TZNAME:CET
DTSTART:20191027T010000
END:STANDARD
BEGIN:DAYLIGHT
TZOFFSETFROM:+0100
TZOFFSETTO:+0200
TZNAME:CEST
DTSTART:20200329T010000
END:DAYLIGHT
BEGIN:STANDARD
TZOFFSETFROM:+0200
TZOFFSETTO:+0100
TZNAME:CET
DTSTART:20201025T010000
END:STANDARD
END:VTIMEZONE
BEGIN:VEVENT
DTSTART;VALUE=DATE:20190514
DTEND;VALUE=DATE:20190515
DTSTAMP:20260424T203949
CREATED:20190512T163804Z
LAST-MODIFIED:20190512T163804Z
UID:1483-1557792000-1557878399@sfeco-asso.org
SUMMARY:Technological and scientific exchanges between Europe and Far-East during 17th century (Louis XIV – Kangxi)
DESCRIPTION:JOURNÉE D’ÉTUDE \nTechnological and scientific exchanges between Europe and Far-East during 17th century (Louis XIV – Kangxi) \n14 May 2019\,Campus Jussieu\, MONARIS\, ParisTour 54 – couloir 54-55 Salle Levisalle \nhttps://f.hypotheses.org/wp-content/blogs.dir/3418/files/2019/03/TrEnamelFC-colloque-14-may-2019-1.pdf \nProgramme \n9:30-10:15 : Aventurine Glass in Western and Eastern History: Occurrence\, Fabrication and Artistry\, T.-H. Chen\, National Palace Museum\, Taipeh\, Taiwan. \n10:15-11:00 : European pigments and ceramic technology in Japan in the late Renaissance perio\, R. Montanari\, Roma\, Italy. 11:20-11:50 : Non-invasive studies of blue enamels of porcelain\, metalware and glass: Comparison between France and Chinese \nproductions\, Ph. Colomban\, MONARIS\, Paris\, France.14:30-15:15 : Les mathématiciens/astronomes français envoyés par Louis XIV à la cour de Kangxi\, I. Landry-Deron\, EHESS\, \nParis\, France.15:15-16:00 : L’arséniate de plomb dans les décors sur glaçure des porcelaines de la famille rose provenant du Palais Impérial \n(Dynastie Qing)\, Ph. Sciau\, CEMES\, Toulouse\, Y. Li.
URL:https://sfeco-asso.org/event/technological-and-scientific-exchanges-between-europe-and-far-east-during-17th-century-louis-xiv-kangxi-2/
END:VEVENT
END:VCALENDAR