
BEGIN:VCALENDAR
VERSION:2.0
PRODID:-//Sfeco-Asso - ECPv6.15.20//NONSGML v1.0//EN
CALSCALE:GREGORIAN
METHOD:PUBLISH
X-WR-CALNAME:Sfeco-Asso
X-ORIGINAL-URL:https://sfeco-asso.org
X-WR-CALDESC:Évènements pour Sfeco-Asso
REFRESH-INTERVAL;VALUE=DURATION:PT1H
X-Robots-Tag:noindex
X-PUBLISHED-TTL:PT1H
BEGIN:VTIMEZONE
TZID:Europe/Paris
BEGIN:DAYLIGHT
TZOFFSETFROM:+0100
TZOFFSETTO:+0200
TZNAME:CEST
DTSTART:20180325T010000
END:DAYLIGHT
BEGIN:STANDARD
TZOFFSETFROM:+0200
TZOFFSETTO:+0100
TZNAME:CET
DTSTART:20181028T010000
END:STANDARD
BEGIN:DAYLIGHT
TZOFFSETFROM:+0100
TZOFFSETTO:+0200
TZNAME:CEST
DTSTART:20190331T010000
END:DAYLIGHT
BEGIN:STANDARD
TZOFFSETFROM:+0200
TZOFFSETTO:+0100
TZNAME:CET
DTSTART:20191027T010000
END:STANDARD
BEGIN:DAYLIGHT
TZOFFSETFROM:+0100
TZOFFSETTO:+0200
TZNAME:CEST
DTSTART:20200329T010000
END:DAYLIGHT
BEGIN:STANDARD
TZOFFSETFROM:+0200
TZOFFSETTO:+0100
TZNAME:CET
DTSTART:20201025T010000
END:STANDARD
END:VTIMEZONE
BEGIN:VEVENT
DTSTART;VALUE=DATE:20190712
DTEND;VALUE=DATE:20191008
DTSTAMP:20260424T162525
CREATED:20190805T135313Z
LAST-MODIFIED:20190807T150706Z
UID:1603-1562889600-1570492799@sfeco-asso.org
SUMMARY:The Rise of Islamic Art 1869-1939.
DESCRIPTION:  \n\nThis exhibition draws on the Museum’s Islamic art collection to explore the personal and professional life of Calouste Gulbenkian and his collecting activities during the first decades of the 20th century. \nCalouste Sarkis Gulbenkian (1869-1955) was of Armenian origin\, born in the Ottoman Empire\, and educated in Europe. Throughout his adult life he brought together these diverse cultures\, from East and West\, in his work in the oil industry\, his philanthropy\, and his collecting. \nThe Middle East occupied a central place in Gulbenkian’s career and this exhibition analyses his art collection from the same region\, partly through the prism of an individual biography\, but also in light of the changing geo-political situation: the decline of the Ottoman Empire\, colonialism and two world wars.The category of ‘Islamic Art’ took shape during this time and even stimulated the creation of new artistic styles and art forms in Europe. Gulbenkian’s own passion for the art of Iran\, Syria and Turkey is mirrored by the passion (and rivalry) of other collectors like Jean Paul Getty and John D. Rockefeller\, who were also making fortunes from oil extraction. \nUsing his own collections of art\, books and archives\, as well as some key loans from Musée du Louvre\, the Metropolitan Museum of Art and the Victoria & Albert Museum\, the exhibition aims to develop our understanding of the relationship between collecting and Realpolitik\, pin-pointing the remarkable synergies between Gulbenkian’s collecting activities c.1900- 1930 and concurrent developments in the field of ‘Islamic art’. \n \nThe Rise of Islamic Art 1869-1939.du 12 juillet au 07 octobre 2019Calouste Gulbenkian Foundation\nLisboa\nhttps://gulbenkian.pt/en/agenda/the-rise-of-islamic-art/ \n\n \n\n \n 
URL:https://sfeco-asso.org/event/the-rise-of-islamic-art-1869-1939/
LOCATION:Lisbone PT
CATEGORIES:Arabo-Musulmane,Etranger,Exposition
END:VEVENT
END:VCALENDAR