
BEGIN:VCALENDAR
VERSION:2.0
PRODID:-//Sfeco-Asso - ECPv6.15.20//NONSGML v1.0//EN
CALSCALE:GREGORIAN
METHOD:PUBLISH
X-WR-CALNAME:Sfeco-Asso
X-ORIGINAL-URL:https://sfeco-asso.org
X-WR-CALDESC:Évènements pour Sfeco-Asso
REFRESH-INTERVAL;VALUE=DURATION:PT1H
X-Robots-Tag:noindex
X-PUBLISHED-TTL:PT1H
BEGIN:VTIMEZONE
TZID:Europe/Paris
BEGIN:DAYLIGHT
TZOFFSETFROM:+0100
TZOFFSETTO:+0200
TZNAME:CEST
DTSTART:20180325T010000
END:DAYLIGHT
BEGIN:STANDARD
TZOFFSETFROM:+0200
TZOFFSETTO:+0100
TZNAME:CET
DTSTART:20181028T010000
END:STANDARD
BEGIN:DAYLIGHT
TZOFFSETFROM:+0100
TZOFFSETTO:+0200
TZNAME:CEST
DTSTART:20190331T010000
END:DAYLIGHT
BEGIN:STANDARD
TZOFFSETFROM:+0200
TZOFFSETTO:+0100
TZNAME:CET
DTSTART:20191027T010000
END:STANDARD
BEGIN:DAYLIGHT
TZOFFSETFROM:+0100
TZOFFSETTO:+0200
TZNAME:CEST
DTSTART:20200329T010000
END:DAYLIGHT
BEGIN:STANDARD
TZOFFSETFROM:+0200
TZOFFSETTO:+0100
TZNAME:CET
DTSTART:20201025T010000
END:STANDARD
END:VTIMEZONE
BEGIN:VEVENT
DTSTART;VALUE=DATE:20191123
DTEND;VALUE=DATE:20191125
DTSTAMP:20260425T014318
CREATED:20191022T194401Z
LAST-MODIFIED:20191023T150547Z
UID:1942-1574467200-1574639999@sfeco-asso.org
SUMMARY:XXXVIIe Colloque pour l’étude de la Céramique
DESCRIPTION:« Le Bleu et Blanc dans la céramique en France 1650-1750 »XXXVIIe Colloque pour l’étude de la CéramiqueParis\, 23 – 24 novembre 2019https://www.etudedelaceramique.com/AEC_DOCS/AEC_Colloque_2019_LeBleuEtBlancDansLaCeramiqueEnFrance1650-1750_Bulletin%20Inscription.pdf \nSamedi 23 novembre 2019 : GENESE\, TECHNOLOGIE\, EVOLUTIONS STYLISTIQUES.– Des Yuan jusqu’à Saint-Jean-du-Désert en passant par les Ming et Saint-Cloud par Edouard WILLIAMSON. – La France à la recherche du cobalt (1650-1750) par François DELAMARE.– 1650-1750\, un siècle favorable au bleu par Jean ROSEN.– Le goût du bleu dans les céramiques européennes XVIe-XVIIe siècles par Claire DUMORTIER. \n\n\n\n\n– La faïence allemande\, Blanc Bleu\, 1650-1750 par Camille REMONDET.– Le Bleu et Blanc de Meissen avant 1750 par Chantal ROCCHISANI.– Les échanges entre centres\, les migrations de peintres et de céramistes par Chantal SOUDEE LACOMBE.– Les décors de chasse par Bernadette de RESSEGUIER.– Le décor « A la Berain » dans la faïence française : Moustiers\, Montpellier\, Marseille\, Lyon\, etc. par Jean-Claude ALARY. – Les lambrequins par Jean ROSEN.– Les décors aux chinois bleus en Provence\, Moustiers\, Marseille par Jean-Claude ALARY. \nDimanche 24 novembre 2019 : LES VERSIONS REGIONALES.– Les bleus de Nevers par Jean ROSEN.– Le manganèse\, la force du bleu et blanc de Saint-Jean-du-Désert à Marseille par Marina LAFON.– Le Bleu et Blanc dans les faïenceries de l’Est de la France par Catherine CALAME.– Des décors en quête d’auteur par Gérard LARTIGUE\, présentés par Jean-Claude ALARY.– Martres Tolosane et Toulouse par Stéphane PIQUES et Marie-Germaine BEAUX-LAFFON.– Les caractéristiques des faïences de Bordeaux\, par Gérard LARTIGUE\, présentées par Jean-Jacques RAUTOU.– La frise « aux raisins » par Jean-Jacques RAUTOU.– Le violet de Caussy par Christian de la HUBAUDIERE.– Les bleus et blancs de Lyon par Yves HERBET. \n\n\n\n\n 
URL:https://sfeco-asso.org/event/xxxviie-colloque-pour-letude-de-la-ceramique/
LOCATION:Grand Salon du Lycée d’Etat Jean Zay\, 10 rue du Docteur Blanche\, 75016 Paris\, 10 rue du Docteur Blanche\, Paris\, \, 75016\, France
CATEGORIES:Colloque,France,Paris
END:VEVENT
END:VCALENDAR